BEGIN:VCALENDAR
VERSION:2.0
PRODID:-//ChamberMaster//Event Calendar 2.0//EN
METHOD:PUBLISH
X-PUBLISHED-TTL:P1H
REFRESH-INTERVAL:P1H
CALSCALE:GREGORIAN
BEGIN:VTIMEZONE
TZID:America/Denver
BEGIN:DAYLIGHT
RRULE:FREQ=YEARLY;BYMONTH=3;BYDAY=2SU
DTSTART:20070101T000000
TZOFFSETFROM:-0700
TZOFFSETTO:-0600
TZNAME:Mountain Daylight Time
END:DAYLIGHT
BEGIN:STANDARD
RRULE:FREQ=YEARLY;BYMONTH=11;BYDAY=1SU
DTSTART:20070101T000000
TZOFFSETFROM:-0600
TZOFFSETTO:-0700
TZNAME:Mountain Standard Time
END:STANDARD
END:VTIMEZONE
BEGIN:VEVENT
DTSTART;TZID=America/Denver:20251031T110000
DTEND;TZID=America/Denver:20251031T120000
X-MICROSOFT-CDO-ALLDAYEVENT:FALSE
SUMMARY:NCIA’s Equity Exchange
DESCRIPTION:NCIA’s Diversity\, Equity & Inclusion Committee invites you to attend our fifth installment of the Equity Exchange.  This is a unique opportunity to connect with experienced mentors\, gain practical insights\, and ask questions in a supportive environment focused on growth and success for all.\nWe’ll review: best hiring practices\, handbook essentials\, and the evolving laws around paid leave and interview compliance.\nHave questions already? We’d love to tailor the session to your needs! Please email Committees@thecannabisindustry.org with any questions you’d like us to cover in the webinar.
X-ALT-DESC;FMTTYPE=text/html:NCIA’s Diversity\, Equity & Inclusion Committee invites you to attend our fifth installment of the Equity Exchange.  This is a unique opportunity to connect with experienced mentors\, gain practical insights\, and ask questions in a supportive environment focused on growth and success for all.\nWe’ll review: best hiring practices\, handbook essentials\, and the evolving laws around paid leave and interview compliance.\nHave questions already? We’d love to tailor the session to your needs! Please email Committees@thecannabisindustry.org with any questions you’d like us to cover in the webinar.
LOCATION:
UID:e.4068.1310144
SEQUENCE:3
DTSTAMP:20260421T093330Z
URL:https://members.thecannabisindustry.org/events/Details/ncia-s-equity-exchange-1535641?sourceTypeId=Hub
END:VEVENT
END:VCALENDAR
